BEGIN:VCALENDAR
VERSION:2.0
PRODID:-//wp-events-plugin.com//7.2.3.1//EN
TZID:Europe/London
X-WR-TIMEZONE:Europe/London
BEGIN:VEVENT
UID:38@therobgeorgefoundation.co.uk
DTSTART;TZID=Europe/London;VALUE=DATE:20200208
DTEND;TZID=Europe/London;VALUE=DATE:20200216
DTSTAMP:20190416T160800Z
URL:https://therobgeorgefoundation.co.uk/events/ski-snow-shoe-for-rob20/
SUMMARY:Ski/Snow-shoe for Rob'20
DESCRIPTION:8th–15th February 2020 – SellaRonda\, Italy.\nPlease join u
 s for the second snow adventure – with a few challenges to help raise fu
 nds for the Rob George Foundation. We would love it if you could raise any
  amount in sponsorship for the 4 challenges –that would be fantastic!\n7
  nights with 6 full days on the snow\, 4 days of RGF challenges: including
  the SellaRonda in both directions\, and a Onesietreasure hunt\, there wil
 l be snow-shoe challenges too –led by Pip and Lorraine!\n\nChalet Soldan
 ella\,Selva\, in the stunning Italian Dolomites.\n£1250pp\n\nCost include
 s:\n\n 	Return flights from Gatwick and transfers to/from the resort.\n 	B
 uffet breakfast with cooked option\n 	Afternoon tea/coffee with fresh cake
 \n 	4 course evening meal with pre-dinner aperitif\, wines during and afte
 r dinner\, coffee and chocolates\n 	Hot drinks all day –catering for 5 d
 ays –pizza party and tour lunch on the other two days.\n\nVery limited p
 laces available –don’t delay in booking your place.\n\nTransfer your d
 eposit of £250pp (non refundable)to :-\nThe Rob George Foundation\nSort C
 ode: 40 51 62\nAccountNos: 27814350\nAdd your name and “Ski for Rob” a
 s the reference.\nBalance of £1000 due 1st Nov’19 –pay in instalments
 if it helps!!
ATTACH;FMTTYPE=image/jpeg:/wp-content/uploads/2019/04/Ski-for-Rob20-flyer.
 jpg
END:VEVENT
BEGIN:VTIMEZONE
TZID:Europe/London
X-LIC-LOCATION:Europe/London
BEGIN:STANDARD
DTSTART:20191027T010000
TZOFFSETFROM:+0100
TZOFFSETTO:+0000
TZNAME:GMT
END:STANDARD
END:VTIMEZONE
END:VCALENDAR